BEGIN:VCALENDAR
VERSION:2.0
PRODID:-//hacksw/handcal//NONSGML v1.0//EN
BEGIN:VEVENT
SUMMARY:BODY-ZEN
UID:dce4ac5d-62a0-48e0-8cef-096c7d9964a7
DTSTART:20260302T160000Z
DTEND:20260302T170000Z
LOCATION:Localisation   
CATEGORIES:Sportif
STATUS:
URL;VALUE=URI:https://agvdessalines44labaule.sportsregions.fr/evenements/2026/03/02/body-zen-2429007
END:VEVENT
END:VCALENDAR
