BEGIN:VCALENDAR
VERSION:2.0
PRODID:-//hacksw/handcal//NONSGML v1.0//EN
BEGIN:VEVENT
SUMMARY:MARCHE NORDIQUE
UID:8166f233-8b3c-404a-87f7-47507bd3d2d6
DTSTART:20260302T083000Z
DTEND:20260302T103000Z
LOCATION:Localisation   
CATEGORIES:Sportif
STATUS:
URL;VALUE=URI:https://agvdessalines44labaule.sportsregions.fr/evenements/2026/03/02/marche-nordique-2429000
END:VEVENT
END:VCALENDAR
