BEGIN:VCALENDAR
VERSION:2.0
PRODID:-//hacksw/handcal//NONSGML v1.0//EN
BEGIN:VEVENT
SUMMARY:BODY-ZEN
UID:939699ea-288d-49bd-ae6d-6f30de93b102
DTSTART:20260309T160000Z
DTEND:20260316T170000Z
LOCATION:Localisation   
CATEGORIES:Sportif
STATUS:
URL;VALUE=URI:https://agvdessalines44labaule.sportsregions.fr/evenements/2026/03/09/body-zen-2429011
END:VEVENT
END:VCALENDAR
