BEGIN:VCALENDAR
VERSION:2.0
PRODID:-//hacksw/handcal//NONSGML v1.0//EN
BEGIN:VEVENT
SUMMARY:GYM DYNAMIQUE
UID:9affd335-f2d2-4a26-a810-7140522acf08
DTSTART:20260309T170000Z
DTEND:20260316T180000Z
LOCATION:Localisation   
CATEGORIES:Sportif
STATUS:
URL;VALUE=URI:https://agvdessalines44labaule.sportsregions.fr/evenements/2026/03/09/gym-dynamique-2429013
END:VEVENT
END:VCALENDAR
